BEGIN:VCALENDAR
PRODID:-//eluceo/ical//2.0/EN
VERSION:2.0
CALSCALE:GREGORIAN
BEGIN:VEVENT
UID:2faef6e1f6f6ddc6643daf347b7ae85e
DTSTAMP:20260423T003924Z
SUMMARY:Kings: an uncensored Look at Biblical Heroes and Anti-Heroes
DESCRIPTION:Jewish Federation of West-Central New Jersey\nCommunity Calenda
 r\nhttps://jfedwcnj.org/calendar/kings-an-uncensored-look-at-biblical-hero
 es-and-anti-heroes-1538074175\n\nJoin Rabbi Selsberg for an in-depth study
  of the holy and the profane in the Book of Kings. A class with reverence\
 , skepticism\, and humor. This is the latest edition of our popular "Stori
 es Way Too Inappropriate for Sunday School" series. No prior experience wi
 th biblical text is necessary.
DTSTART;TZID=America/New_York:20181011T110000
DTEND;TZID=America/New_York:20181011T120000
END:VEVENT
END:VCALENDAR
