BEGIN:VCALENDAR
PRODID:-//eluceo/ical//2.0/EN
VERSION:2.0
CALSCALE:GREGORIAN
BEGIN:VEVENT
UID:24f153c41a67c6ad06f8a21835cb4abe
DTSTAMP:20260423T055115Z
SUMMARY:Kid's Night Out at the JCC
DESCRIPTION:Jewish Federation of West-Central New Jersey\nCommunity Calenda
 r\nhttps://jfedwcnj.org/calendar/kids-night-out-jan-11\n\nCome hang out at
  the JCC for an evening “Under the Sea!” Swim with your friends\, play
  games\, and have a yummy snack! Open to kids 4-12 years old.  
DTSTART;TZID=America/New_York:20200111T180000
DTEND;TZID=America/New_York:20200111T210000
END:VEVENT
END:VCALENDAR
