BEGIN:VCALENDAR
PRODID:-//eluceo/ical//2.0/EN
VERSION:2.0
CALSCALE:GREGORIAN
BEGIN:VEVENT
UID:d974201b5c86f5da06b537abb869309c
DTSTAMP:20260421T235156Z
SUMMARY:Kids' Night Out at the JCC
DESCRIPTION:Jewish Federation of West-Central New Jersey\nCommunity Calenda
 r\nhttps://jfedwcnj.org/calendar/kids-night-ou8t-at-the-jcc\n\nA Night of 
 winterwonderland fun for kids 
DTSTART;TZID=America/New_York:20191214T180000
DTEND;TZID=America/New_York:20191214T210000
END:VEVENT
END:VCALENDAR
