BEGIN:VCALENDAR
PRODID:-//eluceo/ical//2.0/EN
VERSION:2.0
CALSCALE:GREGORIAN
BEGIN:VEVENT
UID:be103cca2b623eb8fc7f8f8fcfaefb55
DTSTAMP:20260422T124016Z
SUMMARY:Kids in the Kitchen
DESCRIPTION:Jewish Federation of West-Central New Jersey\nCommunity Calenda
 r\nhttps://jfedwcnj.org/calendar/kids-in-the-kitchen-1539707368\n\nA koshe
 r cooking experience for your junior chef\, with delicious food ready in t
 ime for dinner!\n\nFirst class: Falafel 'n the Fixings\n\nFor kids ages 6-
 13 (parents are invited to join).
DTSTART;TZID=America/New_York:20181021T160000
DTEND;TZID=America/New_York:20181021T173000
END:VEVENT
END:VCALENDAR
