BEGIN:VCALENDAR
PRODID:-//eluceo/ical//2.0/EN
VERSION:2.0
CALSCALE:GREGORIAN
BEGIN:VEVENT
UID:88e731115db34a94db1d9ddbc9e0c98d
DTSTAMP:20260422T143838Z
SUMMARY:Ken Rudin's Political Junkie
DESCRIPTION:Jewish Federation of West-Central New Jersey\nCommunity Calenda
 r\nhttps://jfedwcnj.org/calendar/ken-rudins-political-junkie\n\nKen Rudin\
 , Political Junkie: Domestic Terrorism\, White Supremacy & Nativism: From 
 the 1950s to the Present
DTSTART;TZID=America/New_York:20210513T193000
DTEND;TZID=America/New_York:20210513T213000
END:VEVENT
END:VCALENDAR
