BEGIN:VCALENDAR
PRODID:-//eluceo/ical//2.0/EN
VERSION:2.0
CALSCALE:GREGORIAN
BEGIN:VEVENT
UID:812f996e9048ee3d94179472bd6332c7
DTSTAMP:20260422T222050Z
SUMMARY:K-2nd Parent and Child Passover Exploration
DESCRIPTION:Jewish Federation of West-Central New Jersey\nCommunity Calenda
 r\nhttps://jfedwcnj.org/calendar/k-2nd-parent-and-child-passover-explorati
 on\n\nA chance for kids to enjoy learning the basics of the heart of the J
 ewish story!\n\nFree to all\n\nQuestions? Contact Ilene Cohen\, ilenecohen
 @temple-shalom.net\, 908-722-1339
DTSTART;TZID=America/New_York:20200329T093000
DTEND;TZID=America/New_York:20200329T113000
END:VEVENT
END:VCALENDAR
