BEGIN:VCALENDAR
PRODID:-//eluceo/ical//2.0/EN
VERSION:2.0
CALSCALE:GREGORIAN
BEGIN:VEVENT
UID:eec3b19396d66802434708cdcc5744c1
DTSTAMP:20260422T225945Z
SUMMARY:JUDY GOLD\, YES\, I CAN SAY THAT
DESCRIPTION:Jewish Federation of West-Central New Jersey\nCommunity Calenda
 r\nhttps://jfedwcnj.org/calendar/judy-gold-yes-i-can-say-that-1600356944\n
 \n“No one makes me laugh harder than Judy Gold. If I had to pick one com
 edian to write a book about free speech\, it would be Judy.” – Amy Sch
 umer\n\n In Yes I Can Say That\, comedy veteran Judy Gold argues that “n
 o one has the right to tell comics what they can or cannot joke about…. 
 Laughter is a unifier. It’s the best medicine…” For Gold\, nothing i
 s more insidious than enforcing silence and repressing jokes—the job of 
 a comedian is to expose society’s demons\, and confront...
DTSTART;TZID=America/New_York:20201022T200000
DTEND;TZID=America/New_York:20201022T210000
END:VEVENT
END:VCALENDAR
