BEGIN:VCALENDAR
PRODID:-//eluceo/ical//2.0/EN
VERSION:2.0
CALSCALE:GREGORIAN
BEGIN:VEVENT
UID:d37fe8389c969df829470d36d185cc1a
DTSTAMP:20260422T145021Z
SUMMARY:Judgement and Mercy Book Talk with Martin Siegel
DESCRIPTION:Jewish Federation of West-Central New Jersey\nCommunity Calenda
 r\nhttps://jfedwcnj.org/calendar/judgement-and-mercy-with-martin-siegel\n\
 nJudgement and Mercy Book Talk with Martin Siegel \n\nTuesday January 9t
 h \n\n7pm \n\n775 Talamini Road\, Bridgewater\, NJ 08807 \n\nLive Event
  with Virtual Speaker\n\nFree to all \n\n \n\nSponsored by: \n\nJewish 
 Federation of West-Central New Jersey Cardozo Legal Society\, Shimon and S
 ara Birnbaum Jewish Community Center and Jewish LIFE
DTSTART;TZID=America/New_York:20240109T190000
DTEND;TZID=America/New_York:20240109T210000
END:VEVENT
END:VCALENDAR
