BEGIN:VCALENDAR
PRODID:-//eluceo/ical//2.0/EN
VERSION:2.0
CALSCALE:GREGORIAN
BEGIN:VEVENT
UID:e6ce1f21bdd47f7ecdd32c13d783212d
DTSTAMP:20260423T101827Z
SUMMARY:Joseph (JB) Bensmihen\, MSW\, RG A Story of Courage and Perseveranc
 e
DESCRIPTION:Jewish Federation of West-Central New Jersey\nCommunity Calenda
 r\nhttps://jfedwcnj.org/calendar/joseph-jb-bensmihen-msw-rg-a-story-of-cou
 rage-and-perseverance\n\nTime: 6:45pm Services\, 7:30pm Dinner & Speaker 
 \n\nFee $18 adults\, $10 children at the door ($15/$8 pre-paid)\n\nJoseph 
 (JB) Bensmihen was born in Montreal in 1969\, the child of Moroccan-Jewish
  immigrants. Diagnosed with spastic cerebral palsy\, Bensmihen was not exp
 ected to walk. Years later he would become the first Canadian student with
  disabilities to be mainstreamed in a public school.\n\nCome join us as we
  hear his story and recognize February as Jewish Disability Month.
DTSTART;TZID=America/New_York:20180209T184500
DTEND;TZID=America/New_York:20180209T204500
END:VEVENT
END:VCALENDAR
