BEGIN:VCALENDAR
PRODID:-//eluceo/ical//2.0/EN
VERSION:2.0
CALSCALE:GREGORIAN
BEGIN:VEVENT
UID:d15610b62ac13fe0f3d34858250848da
DTSTAMP:20260422T184621Z
SUMMARY:Jonathan Greenblatt Book Talk
DESCRIPTION:Jewish Federation of West-Central New Jersey\nCommunity Calenda
 r\nhttps://jfedwcnj.org/calendar/jonathan-greenblatt-book-talk\n\nSave the
  date 
DTSTART;TZID=America/New_York:20220929T190000
DTEND;TZID=America/New_York:20220929T210000
END:VEVENT
END:VCALENDAR
