BEGIN:VCALENDAR
PRODID:-//eluceo/ical//2.0/EN
VERSION:2.0
CALSCALE:GREGORIAN
BEGIN:VEVENT
UID:623d5b530ad30ed55b32eb7d824ff224
DTSTAMP:20260420T125728Z
SUMMARY:Online Opening of a NEW Exhibition\, Witness to History\, Keepers o
 f Memory.
DESCRIPTION:Jewish Federation of West-Central New Jersey\nCommunity Calenda
 r\nhttps://jfedwcnj.org/calendar/join-us-online-for-the-opening-of-a-new-e
 xhibition-witness-to-history-keepers-of-memory\n\nWe are pleased to presen
 t Witness to History\, Keepers of Memory\, currently on display at Rarita
 n Valley Community College. During this virtual event\, we are honored to
  hear from Eva Kuper\, a Canadian Holocaust survivor featured in the exhib
 ition. Eva will share her story and discuss her part in the exhibition. We
  will also hear from Marie-Blanche Fourcade\, head of collections and exhi
 bitions for The Montreal Holocaust Museum.\n\nTo join us for this virtual 
 event\, register here:  https://r...
DTSTART;TZID=America/New_York:20230120T100000
DTEND;TZID=America/New_York:20230120T110000
END:VEVENT
END:VCALENDAR
