BEGIN:VCALENDAR
PRODID:-//eluceo/ical//2.0/EN
VERSION:2.0
CALSCALE:GREGORIAN
BEGIN:VEVENT
UID:a714a1917fdd227c259457ac8d2bccaf
DTSTAMP:20260424T220243Z
SUMMARY:Join JFedSHAW on a Virtual Trip to Israel
DESCRIPTION:Jewish Federation of West-Central New Jersey\nCommunity Calenda
 r\nhttps://jfedwcnj.org/calendar/join-jfedshaw-on-a-virtual-trip-to-israel
 \n\nJoin JFedSHAW on a Virtual Trip to Israel \n\nWe'll explore Yemin Ord
 e Youth Village and see your impact on Israel's next generation of leaders
 .  \n\n \n\nSunday\, January 24\, 2021 \n\n10:30 am EST \n\nfor questi
 ons or more information please contact Lauren Edelman at Ledelman@Jfedsha
 w.org or 908-758-2003 
DTSTART;TZID=America/New_York:20210124T100000
DTEND;TZID=America/New_York:20210124T120000
END:VEVENT
END:VCALENDAR
