BEGIN:VCALENDAR
PRODID:-//eluceo/ical//2.0/EN
VERSION:2.0
CALSCALE:GREGORIAN
BEGIN:VEVENT
UID:13f7c52d49138709dcf9cf31da7aaf65
DTSTAMP:20260425T165509Z
SUMMARY:Join Bridgewater Professional Group for a Networking Open House
DESCRIPTION:Jewish Federation of West-Central New Jersey\nCommunity Calenda
 r\nhttps://jfedwcnj.org/calendar/join-bridgewater-professional-group-for-a
 -networking-open-house\n\nLearn about Bridgewater Professional Group (BPG)
 \, a hybrid weekly referral group looking for our newest members!\n\nEnjoy
  a light Breakfast and Coffee \n\nHear from Featured Speaker & BPG Member
  Jeffrey Weiss\, President\, Obsidian Network Group\n\n"Jeff's Top 5 Tips 
 for Cyber Security"\n\nObsidian Network Group is an outsourced IT support 
 organization for small businesses here in New Jersey. One of their many IT
  security services is Cyber Awareness Training. Employees are on the front
  lines a...
DTSTART;TZID=America/New_York:20220621T073000
DTEND;TZID=America/New_York:20220621T093000
END:VEVENT
END:VCALENDAR
