BEGIN:VCALENDAR
PRODID:-//eluceo/ical//2.0/EN
VERSION:2.0
CALSCALE:GREGORIAN
BEGIN:VEVENT
UID:4912711d34adad62c7f2d7aa50695d49
DTSTAMP:20260421T053614Z
SUMMARY:John Kendrick presents Jewish Women in Film
DESCRIPTION:Jewish Federation of West-Central New Jersey\nCommunity Calenda
 r\nhttps://jfedwcnj.org/calendar/john-kendrick-presents-jewish-women-in-fi
 lm\n\nWho was Hollywood’s first Jewish female super star and how have th
 e roles played by these gifted women evolved over the years?\n\n \n\nFrom
  Sarah Bernhardt to Barbara Streisand to Gal Gadot – an informative\, in
 sightful and entertaining look at the rich cinematic tradition!\n\n \n\nR
 eturn Engagment with John Kendrick. Light Lunch Included.\n\n \n\nJCC Mem
 ber: $10.00 | Community Member: $15.00
DTSTART;TZID=America/New_York:20221207T120000
DTEND;TZID=America/New_York:20221207T140000
END:VEVENT
END:VCALENDAR
