BEGIN:VCALENDAR
PRODID:-//eluceo/ical//2.0/EN
VERSION:2.0
CALSCALE:GREGORIAN
BEGIN:VEVENT
UID:7bc797567bcb910a927a70d2d265ecfe
DTSTAMP:20260424T180516Z
SUMMARY:JOAN LUNDEN\, WHY DID I COME INTO THIS ROOM?
DESCRIPTION:Jewish Federation of West-Central New Jersey\nCommunity Calenda
 r\nhttps://jfedwcnj.org/calendar/joan-lunden-why-did-i-come-into-this-room
 -1600780358\n\nA funny “What to Expect When You’re Expecting” for th
 e aging woman\, acclaimed journalist and Baby Boomer Joan Lunden delves in
 to various phases of aging in her most candid and revealing book yet. Lund
 en takes the dull and depressing out of aging\, replacing it with wit and 
 humor. Whether you’re in your 40s\, 50s\, 60s\, or more\, this book is f
 ull of helpful information. Lunden goes where others fear to tread\, openl
 y sharing her anxieties and breakthroughs and how she’s coping with the.
 ..
DTSTART;TZID=America/New_York:20201108T200000
DTEND;TZID=America/New_York:20201108T210000
END:VEVENT
END:VCALENDAR
