BEGIN:VCALENDAR
PRODID:-//eluceo/ical//2.0/EN
VERSION:2.0
CALSCALE:GREGORIAN
BEGIN:VEVENT
UID:042ca53b1566a26c4a608ff303cad07a
DTSTAMP:20260421T181447Z
SUMMARY:JLI Great Debates in Jewish History
DESCRIPTION:Jewish Federation of West-Central New Jersey\nCommunity Calenda
 r\nhttps://jfedwcnj.org/calendar/jli-great-debates-in-jewish-history-15090
 34469\n\nDebate is not only encouraged within Judaism but resides at the v
 ery heart of our history and theology. Great Debates in Jewish History exp
 lores six fundamental conflicts that pitted the greatest Jewish minds agai
 nst each other—six instances of divergent perspectives\, including sever
 al that are still debated today.\n\nDiscover stirring and surprising accou
 nts that span two millennia of Jewish disputation\, reflecting the panoram
 a of Jewish history and its monumental political\, ethical\, and s...
DTSTART;TZID=America/New_York:20171108T193000
DTEND;TZID=America/New_York:20171108T210000
END:VEVENT
END:VCALENDAR
