BEGIN:VCALENDAR
PRODID:-//eluceo/ical//2.0/EN
VERSION:2.0
CALSCALE:GREGORIAN
BEGIN:VEVENT
UID:a92e0c41819c2d2f1e43196a8f393bc3
DTSTAMP:20260422T061332Z
SUMMARY:JIM MCCLOSKEY AND PHILIP LERMAN WHEN THE TRUTH IS ALL YOU HAVE
DESCRIPTION:Jewish Federation of West-Central New Jersey\nCommunity Calenda
 r\nhttps://jfedwcnj.org/calendar/jim-mccloskey-and-philip-lerman-when-the-
 truth-is-all-you-have-1600781206\n\nBy the founder of the first organizati
 on in the United States committed to freeing the wrongly imprisoned\, this
  is a riveting story of devotion\, sacrifice\, and vindication. Jim McClos
 key was at a midlife crossroads when he met the man who would change his l
 ife. A former management consultant\, McCloskey enrolled at Princeton Theo
 logical Seminary at age 37. His first assignment\, in 1980\, was as a chap
 lain at Trenton State Prison. Among the inmates was Jorge de los Santos\, 
 a heroin addict who&rsquo\;d...
DTSTART;TZID=America/New_York:20201112T080000
DTEND;TZID=America/New_York:20201112T170000
END:VEVENT
END:VCALENDAR
