BEGIN:VCALENDAR
PRODID:-//eluceo/ical//2.0/EN
VERSION:2.0
CALSCALE:GREGORIAN
BEGIN:VEVENT
UID:ea5096f437a192733d2619a647f5d914
DTSTAMP:20260420T135619Z
SUMMARY:JFS Yearn2Learn
DESCRIPTION:Jewish Federation of West-Central New Jersey\nCommunity Calenda
 r\nhttps://jfedwcnj.org/calendar/jfs-yearn2learn-1574778255\n\nJFS Yearn2L
 earn
DTSTART;TZID=America/New_York:20191210T130000
DTEND;TZID=America/New_York:20191210T143000
END:VEVENT
END:VCALENDAR
