BEGIN:VCALENDAR
PRODID:-//eluceo/ical//2.0/EN
VERSION:2.0
CALSCALE:GREGORIAN
BEGIN:VEVENT
UID:7e77f863025beefc00dd45b7cb063120
DTSTAMP:20260423T045029Z
SUMMARY:JFS Yearn2Learn
DESCRIPTION:Jewish Federation of West-Central New Jersey\nCommunity Calenda
 r\nhttps://jfedwcnj.org/calendar/jfs-yearn2learn-1570559218\n\nJFS Yearn2L
 earn
DTSTART;TZID=America/New_York:20191126T130000
DTEND;TZID=America/New_York:20191126T150000
END:VEVENT
END:VCALENDAR
