BEGIN:VCALENDAR
PRODID:-//eluceo/ical//2.0/EN
VERSION:2.0
CALSCALE:GREGORIAN
BEGIN:VEVENT
UID:a5d9929d18fdc98fd5ed7428337fa785
DTSTAMP:20260422T102753Z
SUMMARY:JFS Yearn2Learn
DESCRIPTION:Jewish Federation of West-Central New Jersey\nCommunity Calenda
 r\nhttps://jfedwcnj.org/calendar/jfs-yearn2learn-1550586859\n\nJFS Yearn2L
 earn Program
DTSTART;TZID=America/New_York:20190226T130000
DTEND;TZID=America/New_York:20190226T150000
END:VEVENT
END:VCALENDAR
