BEGIN:VCALENDAR
PRODID:-//eluceo/ical//2.0/EN
VERSION:2.0
CALSCALE:GREGORIAN
BEGIN:VEVENT
UID:7a07d6db4fecd0cc404e601c0d9ec6b5
DTSTAMP:20260423T072251Z
SUMMARY:JFS Yearn2Learn
DESCRIPTION:Jewish Federation of West-Central New Jersey\nCommunity Calenda
 r\nhttps://jfedwcnj.org/calendar/jfs-yearn2learn-1549998659\n\nJFS Yearn2L
 earn
DTSTART;TZID=America/New_York:20190312T130000
DTEND;TZID=America/New_York:20190312T150000
END:VEVENT
END:VCALENDAR
