BEGIN:VCALENDAR
PRODID:-//eluceo/ical//2.0/EN
VERSION:2.0
CALSCALE:GREGORIAN
BEGIN:VEVENT
UID:d62d31a7b0f9eddb96b1ba81fb843c99
DTSTAMP:20260420T094329Z
SUMMARY:JFS Yearn2Learn
DESCRIPTION:Jewish Federation of West-Central New Jersey\nCommunity Calenda
 r\nhttps://jfedwcnj.org/calendar/jfs-yearn2learn-1546455971\n\nJFS Yearn2L
 earn
DTSTART;TZID=America/New_York:20190122T130000
DTEND;TZID=America/New_York:20190122T150000
END:VEVENT
END:VCALENDAR
