BEGIN:VCALENDAR
PRODID:-//eluceo/ical//2.0/EN
VERSION:2.0
CALSCALE:GREGORIAN
BEGIN:VEVENT
UID:be6b3c34cbd036852ee16852d6426662
DTSTAMP:20260421T163228Z
SUMMARY:JFS Yearn2Learn
DESCRIPTION:Jewish Federation of West-Central New Jersey\nCommunity Calenda
 r\nhttps://jfedwcnj.org/calendar/jfs-yearn2learn-1542220031\n\nJFS Yearn2L
 earn
DTSTART;TZID=America/New_York:20181114T130000
DTEND;TZID=America/New_York:20181114T150000
END:VEVENT
END:VCALENDAR
