BEGIN:VCALENDAR
PRODID:-//eluceo/ical//2.0/EN
VERSION:2.0
CALSCALE:GREGORIAN
BEGIN:VEVENT
UID:adf87f17631654afa2571c7fc4c01e41
DTSTAMP:20260421T044519Z
SUMMARY:JFS Yearn2Learn
DESCRIPTION:Jewish Federation of West-Central New Jersey\nCommunity Calenda
 r\nhttps://jfedwcnj.org/calendar/jfs-yearn2learn-1539190293\n\nJFS Yearn2L
 earn
DTSTART;TZID=America/New_York:20181113T130000
DTEND;TZID=America/New_York:20181113T150000
END:VEVENT
END:VCALENDAR
