BEGIN:VCALENDAR
PRODID:-//eluceo/ical//2.0/EN
VERSION:2.0
CALSCALE:GREGORIAN
BEGIN:VEVENT
UID:f6f90b781f2f4151a8c57f7f4b7bb8bb
DTSTAMP:20260424T061500Z
SUMMARY:JFS Yearn2Learn
DESCRIPTION:Jewish Federation of West-Central New Jersey\nCommunity Calenda
 r\nhttps://jfedwcnj.org/calendar/jfs-yearn2learn-1536170585\n\nJFS Yearn2L
 earn
DTSTART;TZID=America/New_York:20181009T130000
DTEND;TZID=America/New_York:20181009T150000
END:VEVENT
END:VCALENDAR
