BEGIN:VCALENDAR
PRODID:-//eluceo/ical//2.0/EN
VERSION:2.0
CALSCALE:GREGORIAN
BEGIN:VEVENT
UID:628726f657664793cfffa3c08432e1dd
DTSTAMP:20260424T094517Z
SUMMARY:JFS Yearn2Learn
DESCRIPTION:Jewish Federation of West-Central New Jersey\nCommunity Calenda
 r\nhttps://jfedwcnj.org/calendar/jfs-yearn2learn-1532526724\n\nJFS Yearn2L
 earn & Green Thumb Healthy Harvest Program
DTSTART;TZID=America/New_York:20180814T090000
DTEND;TZID=America/New_York:20180814T130000
END:VEVENT
END:VCALENDAR
