BEGIN:VCALENDAR
PRODID:-//eluceo/ical//2.0/EN
VERSION:2.0
CALSCALE:GREGORIAN
BEGIN:VEVENT
UID:7b3d061edcccd902c12e699dc004ab3f
DTSTAMP:20260421T194927Z
SUMMARY:JFS Yearn2Learn
DESCRIPTION:Jewish Federation of West-Central New Jersey\nCommunity Calenda
 r\nhttps://jfedwcnj.org/calendar/jfs-yearn2learn-1530124261\n\nJFS Yearn2L
 earn
DTSTART;TZID=America/New_York:20180724T130000
DTEND;TZID=America/New_York:20180724T150000
END:VEVENT
END:VCALENDAR
