BEGIN:VCALENDAR
PRODID:-//eluceo/ical//2.0/EN
VERSION:2.0
CALSCALE:GREGORIAN
BEGIN:VEVENT
UID:45064b00775d2e5f5059808fd40b0ff5
DTSTAMP:20260423T214750Z
SUMMARY:JFS Yearn2Learn
DESCRIPTION:Jewish Federation of West-Central New Jersey\nCommunity Calenda
 r\nhttps://jfedwcnj.org/calendar/jfs-yearn2learn-1524509240\n\n“Prayer a
 nd our Holy Texts in Judaism and Islam: The Qu’ran and the Torah”Judai
 sm and Islam both base their religious beliefs on holy text: The Qu’ran 
 for Muslims and the Torah for Jews. We will learn more about the role of b
 oth of these holy books and will study texts from both of them. We will he
 ar the Torah chanted in Hebrew from the scroll and the Qu’ran chanted in
  Arabic. We will also study the role of prayer\, the prayer traditions and
  some of the key prayers in both faith trad...
DTSTART;TZID=America/New_York:20180522T130000
DTEND;TZID=America/New_York:20180522T143000
END:VEVENT
END:VCALENDAR
