BEGIN:VCALENDAR
PRODID:-//eluceo/ical//2.0/EN
VERSION:2.0
CALSCALE:GREGORIAN
BEGIN:VEVENT
UID:39b399366250d214ec75a2aae6d79484
DTSTAMP:20260422T114821Z
SUMMARY:JFS Yearn2Learn
DESCRIPTION:Jewish Federation of West-Central New Jersey\nCommunity Calenda
 r\nhttps://jfedwcnj.org/calendar/jfs-yearn2learn-1524508831\n\nExploring S
 outh Africa as an Artist”\nEvelyn Rauch will take you on an amazing pict
 orial journey through four countries in Africa that she and her husband\, 
 David visited last October. She went with an artist’s eye but her experi
 ence taught her a lot about the culture\, politics and racial divide that 
 still exist in Africa.\nShe visited the Holocaust Center and Memorial in C
 ape Town\, South Africa and met the artist of the Memorial. Evelyn went on
  Safari in Kruger Nation Park\, visited Chobe ...
DTSTART;TZID=America/New_York:20180508T130000
DTEND;TZID=America/New_York:20180508T143000
END:VEVENT
END:VCALENDAR
