BEGIN:VCALENDAR
PRODID:-//eluceo/ical//2.0/EN
VERSION:2.0
CALSCALE:GREGORIAN
BEGIN:VEVENT
UID:1d9b0dbed323c9978835ddb3e90eda09
DTSTAMP:20260421T101644Z
SUMMARY:JFS Yearn2Learn
DESCRIPTION:Jewish Federation of West-Central New Jersey\nCommunity Calenda
 r\nhttps://jfedwcnj.org/calendar/jfs-yearn2learn-1519831889\n\nJFS Yearn2L
 earn
DTSTART;TZID=America/New_York:20180327T130000
DTEND;TZID=America/New_York:20180327T150000
END:VEVENT
END:VCALENDAR
