BEGIN:VCALENDAR
PRODID:-//eluceo/ical//2.0/EN
VERSION:2.0
CALSCALE:GREGORIAN
BEGIN:VEVENT
UID:f01994921ac9d6c333854521a41e193f
DTSTAMP:20260421T105710Z
SUMMARY:JFS Yearn2Learn
DESCRIPTION:Jewish Federation of West-Central New Jersey\nCommunity Calenda
 r\nhttps://jfedwcnj.org/calendar/jfs-yearn2learn-1516808387\n\nJFS Yearn2L
 earn
DTSTART;TZID=America/New_York:20180227T130000
DTEND;TZID=America/New_York:20180227T150000
END:VEVENT
END:VCALENDAR
