BEGIN:VCALENDAR
PRODID:-//eluceo/ical//2.0/EN
VERSION:2.0
CALSCALE:GREGORIAN
BEGIN:VEVENT
UID:882273bd6947b9833686197573a69095
DTSTAMP:20260422T141226Z
SUMMARY:JFS Yearn2Learn
DESCRIPTION:Jewish Federation of West-Central New Jersey\nCommunity Calenda
 r\nhttps://jfedwcnj.org/calendar/jfs-yearn2learn-1515081986\n\nJFS Yearn2L
 earn
DTSTART;TZID=America/New_York:20180123T130000
DTEND;TZID=America/New_York:20180123T150000
END:VEVENT
END:VCALENDAR
