BEGIN:VCALENDAR
PRODID:-//eluceo/ical//2.0/EN
VERSION:2.0
CALSCALE:GREGORIAN
BEGIN:VEVENT
UID:3fa8fdd4576245cb08280d05d9c784bf
DTSTAMP:20260422T090445Z
SUMMARY:JFS Yearn2Learn
DESCRIPTION:Jewish Federation of West-Central New Jersey\nCommunity Calenda
 r\nhttps://jfedwcnj.org/calendar/jfs-yearn2learn-1513694673\n\nJFS Yearn2L
 earn
DTSTART;TZID=America/New_York:20180109T130000
DTEND;TZID=America/New_York:20180109T150000
END:VEVENT
END:VCALENDAR
