BEGIN:VCALENDAR
PRODID:-//eluceo/ical//2.0/EN
VERSION:2.0
CALSCALE:GREGORIAN
BEGIN:VEVENT
UID:a4933854fbb3fba2fa47f58a0508df31
DTSTAMP:20260422T192931Z
SUMMARY:JFS Yearn2Learn
DESCRIPTION:Jewish Federation of West-Central New Jersey\nCommunity Calenda
 r\nhttps://jfedwcnj.org/calendar/jfs-yearn2learn-1508769777\n\nJFS Yearn2L
 earn
DTSTART;TZID=America/New_York:20171114T130000
DTEND;TZID=America/New_York:20171114T150000
END:VEVENT
END:VCALENDAR
