BEGIN:VCALENDAR
PRODID:-//eluceo/ical//2.0/EN
VERSION:2.0
CALSCALE:GREGORIAN
BEGIN:VEVENT
UID:88d21aa31dad78b483b9a48773a1f868
DTSTAMP:20260422T074634Z
SUMMARY:JFS Yearn2Learn
DESCRIPTION:Jewish Federation of West-Central New Jersey\nCommunity Calenda
 r\nhttps://jfedwcnj.org/calendar/jfs-yearn2learn-1506351710\n\nJFS Yearn2L
 earn
DTSTART;TZID=America/New_York:20171024T130000
DTEND;TZID=America/New_York:20171024T143000
END:VEVENT
END:VCALENDAR
