BEGIN:VCALENDAR
PRODID:-//eluceo/ical//2.0/EN
VERSION:2.0
CALSCALE:GREGORIAN
BEGIN:VEVENT
UID:2e658b37a94c75281ee14e209c4b241c
DTSTAMP:20260420T215839Z
SUMMARY:JFS Yearn2Learn
DESCRIPTION:Jewish Federation of West-Central New Jersey\nCommunity Calenda
 r\nhttps://jfedwcnj.org/calendar/jfs-yearn2learn-1502292015\n\nJFS Yearn2L
 earn
DTSTART;TZID=America/New_York:20170926T130000
DTEND;TZID=America/New_York:20170926T150000
END:VEVENT
END:VCALENDAR
