BEGIN:VCALENDAR
PRODID:-//eluceo/ical//2.0/EN
VERSION:2.0
CALSCALE:GREGORIAN
BEGIN:VEVENT
UID:7fb875a2a7f6318c0d8513d56556e9d1
DTSTAMP:20260421T182229Z
SUMMARY:JFS Yearn2Learn
DESCRIPTION:Jewish Federation of West-Central New Jersey\nCommunity Calenda
 r\nhttps://jfedwcnj.org/calendar/jfs-yearn2learn-1499879314\n\nJFS Yearn2L
 earn
DTSTART;TZID=America/New_York:20170808T130000
DTEND;TZID=America/New_York:20170808T150000
END:VEVENT
END:VCALENDAR
