BEGIN:VCALENDAR
PRODID:-//eluceo/ical//2.0/EN
VERSION:2.0
CALSCALE:GREGORIAN
BEGIN:VEVENT
UID:1d5cf2dd566a0f7278eb21955702908b
DTSTAMP:20260422T153708Z
SUMMARY:JFS Yearn2Learn
DESCRIPTION:Jewish Federation of West-Central New Jersey\nCommunity Calenda
 r\nhttps://jfedwcnj.org/calendar/jfs-yearn2learn-1498658792\n\nJFS Yearn2L
 earn
DTSTART;TZID=America/New_York:20170711T130000
DTEND;TZID=America/New_York:20170711T150000
END:VEVENT
END:VCALENDAR
