BEGIN:VCALENDAR
PRODID:-//eluceo/ical//2.0/EN
VERSION:2.0
CALSCALE:GREGORIAN
BEGIN:VEVENT
UID:9b2d9b22ad739056a7ade41720af0514
DTSTAMP:20260422T125310Z
SUMMARY:JFS Yearn2Learn
DESCRIPTION:Jewish Federation of West-Central New Jersey\nCommunity Calenda
 r\nhttps://jfedwcnj.org/calendar/jfs-yearn2learn-1495562064\n\nJFS Yearn2L
 earn
DTSTART;TZID=America/New_York:20170613T130000
DTEND;TZID=America/New_York:20170613T150000
END:VEVENT
END:VCALENDAR
