BEGIN:VCALENDAR
PRODID:-//eluceo/ical//2.0/EN
VERSION:2.0
CALSCALE:GREGORIAN
BEGIN:VEVENT
UID:d9ff3c4bc0d9d2e5063489801c96dd9b
DTSTAMP:20260420T171516Z
SUMMARY:JFS Yearn2Learn
DESCRIPTION:Jewish Federation of West-Central New Jersey\nCommunity Calenda
 r\nhttps://jfedwcnj.org/calendar/jfs-yearn2learn-1493224560\n\nJFS Yearn2L
 earn
DTSTART;TZID=America/New_York:20170509T130000
DTEND;TZID=America/New_York:20170509T150000
END:VEVENT
END:VCALENDAR
