BEGIN:VCALENDAR
PRODID:-//eluceo/ical//2.0/EN
VERSION:2.0
CALSCALE:GREGORIAN
BEGIN:VEVENT
UID:cefc04e548e5d5d84aa0d2c51e06201e
DTSTAMP:20260422T200410Z
SUMMARY:JFS Yearn2Learn
DESCRIPTION:Jewish Federation of West-Central New Jersey\nCommunity Calenda
 r\nhttps://jfedwcnj.org/calendar/jfs-yearn2learn-1487793128\n\nJFS Yearn2L
 earn - The Jewish Mayflower
DTSTART;TZID=America/New_York:20170328T130000
DTEND;TZID=America/New_York:20170328T143000
END:VEVENT
END:VCALENDAR
