BEGIN:VCALENDAR
PRODID:-//eluceo/ical//2.0/EN
VERSION:2.0
CALSCALE:GREGORIAN
BEGIN:VEVENT
UID:bde0e39727f0ad1bbb570c63cd0bd66b
DTSTAMP:20260421T072611Z
SUMMARY:JFS Yearn2Learn
DESCRIPTION:Jewish Federation of West-Central New Jersey\nCommunity Calenda
 r\nhttps://jfedwcnj.org/calendar/jfs-yearn2learn-1487792975\n\nJFS Yearn2L
 earn - Tapping into your Creative Soul
DTSTART;TZID=America/New_York:20170314T130000
DTEND;TZID=America/New_York:20170314T143000
END:VEVENT
END:VCALENDAR
