BEGIN:VCALENDAR
PRODID:-//eluceo/ical//2.0/EN
VERSION:2.0
CALSCALE:GREGORIAN
BEGIN:VEVENT
UID:4b6f0600d00248a91751a41e26141dac
DTSTAMP:20260424T144316Z
SUMMARY:JFS Yearn2Learn
DESCRIPTION:Jewish Federation of West-Central New Jersey\nCommunity Calenda
 r\nhttps://jfedwcnj.org/calendar/jfs-yearn2learn-1485364581\n\nJFS Yearn2L
 earn - &ldquo\;Litvaks &amp\; Galitzianers:  Jewish Hatfields and McCoys&r
 dquo\; 
DTSTART;TZID=America/New_York:20170228T130000
DTEND;TZID=America/New_York:20170228T143000
END:VEVENT
END:VCALENDAR
