BEGIN:VCALENDAR
PRODID:-//eluceo/ical//2.0/EN
VERSION:2.0
CALSCALE:GREGORIAN
BEGIN:VEVENT
UID:110536204c83b0dc86ef80cdc56d5f17
DTSTAMP:20260421T135936Z
SUMMARY:JFS Yearn2Learn
DESCRIPTION:Jewish Federation of West-Central New Jersey\nCommunity Calenda
 r\nhttps://jfedwcnj.org/calendar/jfs-yearn2learn-1485364446\n\nJFS Yearn2L
 earn - &ldquo\;Kabbalah Part 2:  The Soul Level of Judaism&rdquo\;\, 
DTSTART;TZID=America/New_York:20170214T130000
DTEND;TZID=America/New_York:20170214T143000
END:VEVENT
END:VCALENDAR
