BEGIN:VCALENDAR
PRODID:-//eluceo/ical//2.0/EN
VERSION:2.0
CALSCALE:GREGORIAN
BEGIN:VEVENT
UID:7427d2a4cf9040605d37bca558ffe531
DTSTAMP:20260422T145101Z
SUMMARY:JFS Yearn2Learn
DESCRIPTION:Jewish Federation of West-Central New Jersey\nCommunity Calenda
 r\nhttps://jfedwcnj.org/calendar/jfs-yearn2learn-1479402678\n\nJFS Yearn2L
 earn - The Sephardic Connection to Flamenco
DTSTART;TZID=America/New_York:20161206T130000
DTEND;TZID=America/New_York:20161206T143000
END:VEVENT
END:VCALENDAR
