BEGIN:VCALENDAR
PRODID:-//eluceo/ical//2.0/EN
VERSION:2.0
CALSCALE:GREGORIAN
BEGIN:VEVENT
UID:d543b66a328cdaa3c8f704b137a6ccaf
DTSTAMP:20260423T005203Z
SUMMARY:JFS Yearn2Learn
DESCRIPTION:Jewish Federation of West-Central New Jersey\nCommunity Calenda
 r\nhttps://jfedwcnj.org/calendar/jfs-yearn2learn-1475680360\n\nJFS Yearn2L
 earn
DTSTART;TZID=America/New_York:20161107T120000
DTEND;TZID=America/New_York:20161107T133000
END:VEVENT
END:VCALENDAR
