BEGIN:VCALENDAR
PRODID:-//eluceo/ical//2.0/EN
VERSION:2.0
CALSCALE:GREGORIAN
BEGIN:VEVENT
UID:0545d9641ec5e43e7fc3a17660af6a8e
DTSTAMP:20260423T033053Z
SUMMARY:JFS Yearn2Learn
DESCRIPTION:Jewish Federation of West-Central New Jersey\nCommunity Calenda
 r\nhttps://jfedwcnj.org/calendar/jfs-yearn2learn-1475678926\n\nJFS Yearn2L
 earn
DTSTART;TZID=America/New_York:20161122T130000
DTEND;TZID=America/New_York:20161122T143000
END:VEVENT
END:VCALENDAR
