BEGIN:VCALENDAR
PRODID:-//eluceo/ical//2.0/EN
VERSION:2.0
CALSCALE:GREGORIAN
BEGIN:VEVENT
UID:334714f14a8a9101f995d04c9bfbbe1d
DTSTAMP:20260423T051311Z
SUMMARY:JFS Yearn2Learn
DESCRIPTION:Jewish Federation of West-Central New Jersey\nCommunity Calenda
 r\nhttps://jfedwcnj.org/calendar/jfs-yearn2learn-1473263554\n\nJFS Yearn2L
 earn
DTSTART;TZID=America/New_York:20160927T130000
DTEND;TZID=America/New_York:20160927T143000
END:VEVENT
END:VCALENDAR
