BEGIN:VCALENDAR
PRODID:-//eluceo/ical//2.0/EN
VERSION:2.0
CALSCALE:GREGORIAN
BEGIN:VEVENT
UID:e1b53c0f15df07374ef1a9efe5af0ee7
DTSTAMP:20260424T062205Z
SUMMARY:JFS Yearn2Learn
DESCRIPTION:Jewish Federation of West-Central New Jersey\nCommunity Calenda
 r\nhttps://jfedwcnj.org/calendar/jfs-yearn2learn-1467899001\n\nJFS Yearn2L
 earn
DTSTART;TZID=America/New_York:20160726T130000
DTEND;TZID=America/New_York:20160726T143000
END:VEVENT
END:VCALENDAR
