BEGIN:VCALENDAR
PRODID:-//eluceo/ical//2.0/EN
VERSION:2.0
CALSCALE:GREGORIAN
BEGIN:VEVENT
UID:1a975690553ce7e5f1956bf4f653ee94
DTSTAMP:20260422T061542Z
SUMMARY:JFS Yearn2Learn - "Wildlife Around The  County\; Your Forgotten Nei
 ghbors"
DESCRIPTION:Jewish Federation of West-Central New Jersey\nCommunity Calenda
 r\nhttps://jfedwcnj.org/calendar/jfs-yearn2learn---wildlife-around-the--co
 unty-your-forgotten-neighbors-1450379304\n\nJFS Yearn2Learn - &quot\;Wildl
 ife Around Hunterdon County\; Your Forgotten Neighbors&quot\;
DTSTART;TZID=America/New_York:20160119T130000
DTEND;TZID=America/New_York:20160119T143000
END:VEVENT
END:VCALENDAR
